BEGIN:VCALENDAR
PRODID:-//Kentico Software//NONSGML Kentico CMS//EN
VERSION:2.0
BEGIN:VEVENT
UID:21d49d09-e1e1-4dcc-bc4f-c223b903a60a@uhcu-cms-k13-prod-cus-app.azurewebsites.net
DTSTAMP:20260420T064052Z
DTSTART:20260613T140000
DTEND:20260613T160000
LOCATION:12 Waters Edge Cir Georgetown, Texas 78626
DESCRIPTION:At United Heritage Credit Union, protecting your personal information is important! That is why we are happy to host a Shred Day and invite our members and the community to bring up to five file sized boxes of documents and paperwork to be professionally shredded.Gather up your unwanted documents and paperwork and bring them to our Georgetown Branch to be professionally shredded on-site. Breakfast treats will be provided as well!\n\nWhere:\nGeorgetown Branch\n12 Waters Edge Cir\nGeorgetown, Texas 78626\n\nWhen:\nSaturday, June 14, 2026\n9:00 AM - 11:00 AM*Only paper and paper-like materials can be shredded. No film, x-rays, plastic or electronic waste.\n**Weather permitting.
SUMMARY:Shred Day - Georgetown Branch
PRIORITY:3
BEGIN:VALARM
TRIGGER:P0DT0H15M
ACTION:DISPLAY
DESCRIPTION:Reminder
END:VALARM
END:VEVENT
END:VCALENDAR
