BEGIN:VCALENDAR
PRODID:-//Kentico Software//NONSGML Kentico CMS//EN
VERSION:2.0
BEGIN:VEVENT
UID:58d849ea-eac1-42cf-af86-b26a9de6981a@uhcu-cms-k13-prod-cus-app.azurewebsites.net
DTSTAMP:20260424T022914Z
DTSTART:20250412T140000
DTEND:20250412T160000
LOCATION:1801 E Whitestone Blvd (FM 1431) Cedar Park, Texas 78613
DESCRIPTION:At United Heritage Credit Union, protecting your personal information is important! That is why we are happy to host a Shred Day and invite our members and the community to bring up to five file sized boxes of documents and paperwork to be professionally shredded.*Gather up your unwanted documents and paperwork and bring them to our Cedar Park Branch to be professionally shredded on-site. Breakfast treats will be provided as well!\n\nWhere:\nCedar Park Branch\n1801 E Whitestone Blvd. (FM 1431)\nCedar Park, Texas 78613\n\nWhen:\nSaturday, April 12, 2025\n9:00 AM - 11:00 AM**\n\n *Only paper and paper-like materials can be shredded. No film, x-rays, plastic or electronic waste.\n**Weather permitting.
SUMMARY:Shred Day - Cedar Park 
PRIORITY:3
BEGIN:VALARM
TRIGGER:P0DT0H15M
ACTION:DISPLAY
DESCRIPTION:Reminder
END:VALARM
END:VEVENT
END:VCALENDAR
