BEGIN:VCALENDAR
PRODID:-//Kentico Software//NONSGML Kentico CMS//EN
VERSION:2.0
BEGIN:VEVENT
UID:6eec7ffe-28b0-4c52-8d12-187fd407f69d@uhcu-cms-k13-prod-cus-app.azurewebsites.net
DTSTAMP:20260425T102201Z
DTSTART:20250919T163900
DTEND:20250928T163900
LOCATION:
DESCRIPTION:United Heritage Credit Union is pleased to join the East Texas community at this year's East Texas State Fair! UHCU is the Presenting Sponsor of Mutton Bustin' and Military Appreciation Night happening Monday, September 23, 2025.\n\nThe East Texas State Fair brings our community together to celebrate heritage, promote agriculture, provide family-friendly entertainment and facilitate the development of our future leaders.\n\nVisit https://www.etstatefair.com/ for more information,
SUMMARY:East Texas State Fair
PRIORITY:3
BEGIN:VALARM
TRIGGER:P0DT0H15M
ACTION:DISPLAY
DESCRIPTION:Reminder
END:VALARM
END:VEVENT
END:VCALENDAR
