BEGIN:VCALENDAR
PRODID:-//Kentico Software//NONSGML Kentico CMS//EN
VERSION:2.0
BEGIN:VEVENT
UID:7ca5f7a3-e3b4-4f67-91ae-fa9c1c7df2b5@uhcu-cms-k13-prod-cus-app.azurewebsites.net
DTSTAMP:20260420T062130Z
DTSTART:20261212T150000
DTEND:20261212T170000
LOCATION:8715 W Parmer Ln. Austin, Texas 78729
DESCRIPTION:At United Heritage Credit Union, protecting your personal information is important! That is why we are happy to host a Shred Day and invite our members and the community to bring up to five file sized boxes of documents and paperwork to be professionally shredded.Gather up your unwanted documents and paperwork and bring them to our North Austin Branch to be professionally shredded on-site. Breakfast treats will be provided as well!\n\nWhere:\nNorth Austin Branch\n8715 W Parmer Ln\nAustin, Texas 78729\n\nWhen:\nSaturday, December 12, 2026\n9:00 AM - 11:00 AM*Only paper and paper-like materials can be shredded. No film, x-rays, plastic or electronic waste.\n**Weather permitting.
SUMMARY:Shred Day - North Austin Branch
PRIORITY:3
BEGIN:VALARM
TRIGGER:P0DT0H15M
ACTION:DISPLAY
DESCRIPTION:Reminder
END:VALARM
END:VEVENT
END:VCALENDAR
