BEGIN:VCALENDAR
PRODID:-//Kentico Software//NONSGML Kentico CMS//EN
VERSION:2.0
BEGIN:VEVENT
UID:86abb529-bb8c-493c-b3f4-4134daf1b580@uhcu-cms-k13-prod-cus-app.azurewebsites.net
DTSTAMP:20260425T102207Z
DTSTART:20251207T190000
DTEND:20251207T220000
LOCATION:
DESCRIPTION:Join us for a special holiday matinee featuring Austin artists: Patrice Pike, Suzanna Choffel, Wendy Colonna, and Ginger Leigh!\n\nThis powerhouse lineup will perform a mix of soulful ballads, holiday classics and more to celebrate music, community, and the spirit of the season. Expect stunning vocals and inspiring collaborations as these friends share the stage for a great cause. \n\nThis concert, presented by United Heritage Credit Union, supports two vital local organizations: the Health Alliance for Austin Musicians (HAAM) and Step Onward Foundation.\n\nFor more information and ticket pricingclick here
SUMMARY:Love at The Regal
PRIORITY:3
BEGIN:VALARM
TRIGGER:P0DT0H15M
ACTION:DISPLAY
DESCRIPTION:Reminder
END:VALARM
END:VEVENT
END:VCALENDAR
