BEGIN:VCALENDAR
PRODID:-//Kentico Software//NONSGML Kentico CMS//EN
VERSION:2.0
BEGIN:VEVENT
UID:fbd60de3-6669-434e-9791-82558bad4e6b@uhcu-cms-k13-prod-cus-app.azurewebsites.net
DTSTAMP:20260420T102927Z
DTSTART:20241205T150000
DTEND:20241231T174500
LOCATION:
DESCRIPTION:In partnership with the Central Texas Food Bank and United Heritage Charity Foundation, UHCU is excited to invite our members and the community in helping us raise donations for Central Texans in need. Starting December 5, 2024 through (end date), you can purchase a delicious hot chocolate kit at any of our branches. Treat yourself, or someone you love to holiday treats and goodies from UHCU.Each Kit Includes: A UHCU mugHot chocolate mixChristmas candyUHCU & holiday stickers Why it Matters:$7.50 from every kit sold goes directly to the Central Texas Food Bank, providing 15 meals per kit for neighbors in need. AVAILABLE AT ALL UHCU BRANCHES!Don't miss your chance to spread warmth this season.
SUMMARY:Central Texas Food Bank Donation Drive
PRIORITY:3
BEGIN:VALARM
TRIGGER:P0DT0H15M
ACTION:DISPLAY
DESCRIPTION:Reminder
END:VALARM
END:VEVENT
END:VCALENDAR
